BEGIN:VCALENDAR
VERSION:2.0
PRODID:-//UNC School of Law - ECPv5.6.0//NONSGML v1.0//EN
CALSCALE:GREGORIAN
METHOD:PUBLISH
X-WR-CALNAME:UNC School of Law
X-ORIGINAL-URL:https://law.unc.edu
X-WR-CALDESC:Events for UNC School of Law
BEGIN:VTIMEZONE
TZID:America/New_York
BEGIN:DAYLIGHT
TZOFFSETFROM:-0500
TZOFFSETTO:-0400
TZNAME:EDT
DTSTART:20200308T070000
END:DAYLIGHT
BEGIN:STANDARD
TZOFFSETFROM:-0400
TZOFFSETTO:-0500
TZNAME:EST
DTSTART:20201101T060000
END:STANDARD
BEGIN:DAYLIGHT
TZOFFSETFROM:-0500
TZOFFSETTO:-0400
TZNAME:EDT
DTSTART:20210314T070000
END:DAYLIGHT
BEGIN:STANDARD
TZOFFSETFROM:-0400
TZOFFSETTO:-0500
TZNAME:EST
DTSTART:20211107T060000
END:STANDARD
END:VTIMEZONE
BEGIN:VEVENT
DTSTART;TZID=America/New_York:20200130T120000
DTEND;TZID=America/New_York:20200130T130000
DTSTAMP:20260424T071240
CREATED:20190926T060425Z
LAST-MODIFIED:20190926T060425Z
UID:2786-1580385600-1580389200@law.unc.edu
SUMMARY:Faculty Speaker Series: Monica C. Bell
DESCRIPTION:Monica C. Bell\, Yale Law School\n\n\n\n\n\nCriminal justice; welfare law; housing\, race and the law; qualitative research methods; and law and sociology.
URL:https://law.unc.edu/event/faculty-speaker-series-monica-c-bell/
LOCATION:Van Hecke-Wettach Hall\, 160 Ridge Road\, CB #3380\, Chapel Hill\, NC\, 27599\, United States
CATEGORIES:Faculty Speaker Series
GEO:35.9089895;-79.0420118
X-APPLE-STRUCTURED-LOCATION;VALUE=URI;X-ADDRESS=Van Hecke-Wettach Hall 160 Ridge Road CB #3380 Chapel Hill NC 27599 United States;X-APPLE-RADIUS=500;X-TITLE=160 Ridge Road\, CB #3380:geo:-79.0420118,35.9089895
END:VEVENT
BEGIN:VEVENT
DTSTART;TZID=America/New_York:20200206T120000
DTEND;TZID=America/New_York:20200206T130000
DTSTAMP:20260424T071240
CREATED:20190926T061530Z
LAST-MODIFIED:20190926T061530Z
UID:2790-1580990400-1580994000@law.unc.edu
SUMMARY:Faculty Speaker Series: Marie-Amélie George
DESCRIPTION:Marie-Amélie George\, Wake Forest University School of Law\n\n\n\n\n\nLGBTQ rights; civil procedure and family law; sexuality and gender law; how and why laws have changed\, as well as the ways in which history can provide insight into current legal debates and contemporary normative questions.
URL:https://law.unc.edu/event/faculty-speaker-series-marie-amelie-george/
LOCATION:Van Hecke-Wettach Hall\, 160 Ridge Road\, CB #3380\, Chapel Hill\, NC\, 27599\, United States
CATEGORIES:Faculty Speaker Series
GEO:35.9089895;-79.0420118
X-APPLE-STRUCTURED-LOCATION;VALUE=URI;X-ADDRESS=Van Hecke-Wettach Hall 160 Ridge Road CB #3380 Chapel Hill NC 27599 United States;X-APPLE-RADIUS=500;X-TITLE=160 Ridge Road\, CB #3380:geo:-79.0420118,35.9089895
END:VEVENT
BEGIN:VEVENT
DTSTART;TZID=America/New_York:20200213T120000
DTEND;TZID=America/New_York:20200213T130000
DTSTAMP:20260424T071240
CREATED:20190926T061753Z
LAST-MODIFIED:20190926T061753Z
UID:2792-1581595200-1581598800@law.unc.edu
SUMMARY:Faculty Speaker Series: Kerrel Murray
DESCRIPTION:Kerrel Murray\, UNC School of Law\n\n\nProperty law; race and the law; law and democracy; administrative law; constitutional law.
URL:https://law.unc.edu/event/faculty-speaker-series-kerrel-murray/
LOCATION:Van Hecke-Wettach Hall\, 160 Ridge Road\, CB #3380\, Chapel Hill\, NC\, 27599\, United States
CATEGORIES:Faculty Speaker Series
GEO:35.9089895;-79.0420118
X-APPLE-STRUCTURED-LOCATION;VALUE=URI;X-ADDRESS=Van Hecke-Wettach Hall 160 Ridge Road CB #3380 Chapel Hill NC 27599 United States;X-APPLE-RADIUS=500;X-TITLE=160 Ridge Road\, CB #3380:geo:-79.0420118,35.9089895
END:VEVENT
BEGIN:VEVENT
DTSTART;TZID=America/New_York:20200220T120000
DTEND;TZID=America/New_York:20200220T130000
DTSTAMP:20260424T071240
CREATED:20190926T061954Z
LAST-MODIFIED:20190926T061954Z
UID:2796-1582200000-1582203600@law.unc.edu
SUMMARY:Faculty Speaker Series: Nirej Sekhon
DESCRIPTION:Nirej Sekhon\, Georgia State University College of Law\n\n\n\n\n\nRelationships between criminal procedure\, criminalization\, and political culture. Evaluating criminal justice norms and institutions through the lenses of democracy and equality theory.
URL:https://law.unc.edu/event/faculty-speaker-series-nirej-sekhon/
LOCATION:Van Hecke-Wettach Hall\, 160 Ridge Road\, CB #3380\, Chapel Hill\, NC\, 27599\, United States
CATEGORIES:Faculty Speaker Series
GEO:35.9089895;-79.0420118
X-APPLE-STRUCTURED-LOCATION;VALUE=URI;X-ADDRESS=Van Hecke-Wettach Hall 160 Ridge Road CB #3380 Chapel Hill NC 27599 United States;X-APPLE-RADIUS=500;X-TITLE=160 Ridge Road\, CB #3380:geo:-79.0420118,35.9089895
END:VEVENT
BEGIN:VEVENT
DTSTART;TZID=America/New_York:20200227T120000
DTEND;TZID=America/New_York:20200227T130000
DTSTAMP:20260424T071240
CREATED:20190926T062129Z
LAST-MODIFIED:20190926T062129Z
UID:2799-1582804800-1582808400@law.unc.edu
SUMMARY:Faculty Speaker Series: Dara Purvis
DESCRIPTION:Dara Purvis\, Penn State Law\n\n\n\n\n\nFamily law; feminist legal theory; contract law; sexuality and the law; gender stereotypes and the law; neutralizing reforms\, in the context of how the law de􏰀ines parenthood.
URL:https://law.unc.edu/event/faculty-speaker-series-dara-purvis/
LOCATION:Van Hecke-Wettach Hall\, 160 Ridge Road\, CB #3380\, Chapel Hill\, NC\, 27599\, United States
CATEGORIES:Faculty Speaker Series
GEO:35.9089895;-79.0420118
X-APPLE-STRUCTURED-LOCATION;VALUE=URI;X-ADDRESS=Van Hecke-Wettach Hall 160 Ridge Road CB #3380 Chapel Hill NC 27599 United States;X-APPLE-RADIUS=500;X-TITLE=160 Ridge Road\, CB #3380:geo:-79.0420118,35.9089895
END:VEVENT
BEGIN:VEVENT
DTSTART;TZID=America/New_York:20200305T000000
DTEND;TZID=America/New_York:20200305T000000
DTSTAMP:20260424T071240
CREATED:20190926T181923Z
LAST-MODIFIED:20190926T181923Z
UID:2802-1583366400-1583366400@law.unc.edu
SUMMARY:Faculty Speaker Series: Guest Speaker (TBA)
DESCRIPTION:Tü bingen University expressly supports the freedom of research and academia\, the freedom of expression\, the equality of all human beings\, respect for human dignity\, peaceful coexistence\, and protection of the environment.
URL:https://law.unc.edu/event/faculty-speaker-series-guest-speaker-tba/
LOCATION:Van Hecke-Wettach Hall\, 160 Ridge Road\, CB #3380\, Chapel Hill\, NC\, 27599\, United States
CATEGORIES:Faculty Speaker Series
GEO:35.9089895;-79.0420118
X-APPLE-STRUCTURED-LOCATION;VALUE=URI;X-ADDRESS=Van Hecke-Wettach Hall 160 Ridge Road CB #3380 Chapel Hill NC 27599 United States;X-APPLE-RADIUS=500;X-TITLE=160 Ridge Road\, CB #3380:geo:-79.0420118,35.9089895
END:VEVENT
BEGIN:VEVENT
DTSTART;TZID=America/New_York:20200319T120000
DTEND;TZID=America/New_York:20200319T130000
DTSTAMP:20260424T071240
CREATED:20190926T182142Z
LAST-MODIFIED:20200313T185033Z
UID:2807-1584619200-1584622800@law.unc.edu
SUMMARY:Canceled: Faculty Speaker Series: Scholarship Roundtable
DESCRIPTION:This event is canceled.\n\nScholarship Roundtable\n\n\n\n\n\nScholarship Roundtable: “Writing the Scholarly Monograph.”\nJohn Conley\, Max Eichner\, Michael Gerhardt\, Eric Muller\, John Orth.
URL:https://law.unc.edu/event/faculty-speaker-series-scholarship-roundtable/
CATEGORIES:Faculty Speaker Series
END:VEVENT
BEGIN:VEVENT
DTSTART;TZID=America/New_York:20200325T120000
DTEND;TZID=America/New_York:20200325T130000
DTSTAMP:20260424T071240
CREATED:20190926T182351Z
LAST-MODIFIED:20200313T185108Z
UID:2809-1585137600-1585141200@law.unc.edu
SUMMARY:Canceled: Faculty Speaker Series: Molly Worthen
DESCRIPTION:This event is canceled.\nMolly Worthen\, UNC Department of History \n\n\n\n\nNorth American religious and intellectual history\, particularly the ideas and culture of conservative Christianity; global Christianity\, North American religious and intellectual culture\, and the history of politics and ideology.
URL:https://law.unc.edu/event/faculty-speaker-series-molly-worthen/
LOCATION:Van Hecke-Wettach Hall\, 160 Ridge Road\, CB #3380\, Chapel Hill\, NC\, 27599\, United States
CATEGORIES:Faculty Speaker Series
GEO:35.9089895;-79.0420118
X-APPLE-STRUCTURED-LOCATION;VALUE=URI;X-ADDRESS=Van Hecke-Wettach Hall 160 Ridge Road CB #3380 Chapel Hill NC 27599 United States;X-APPLE-RADIUS=500;X-TITLE=160 Ridge Road\, CB #3380:geo:-79.0420118,35.9089895
END:VEVENT
BEGIN:VEVENT
DTSTART;TZID=America/New_York:20200402T120000
DTEND;TZID=America/New_York:20200402T130000
DTSTAMP:20260424T071240
CREATED:20190926T182542Z
LAST-MODIFIED:20200313T190020Z
UID:2812-1585828800-1585832400@law.unc.edu
SUMMARY:Canceled: Faculty Speaker Series: Kathleen Thomas
DESCRIPTION:This event is canceled.\n\n Kathleen Thomas\, UNC School of Law\n\n\n\n\n\n\n\nPedagogy Workshop\, “Active Learning and Formative Assessment in a Large Law School Class.”
URL:https://law.unc.edu/event/faculty-speaker-series-kathleen-thomas/
LOCATION:Van Hecke-Wettach Hall\, 160 Ridge Road\, CB #3380\, Chapel Hill\, NC\, 27599\, United States
CATEGORIES:Faculty Speaker Series
GEO:35.9089895;-79.0420118
X-APPLE-STRUCTURED-LOCATION;VALUE=URI;X-ADDRESS=Van Hecke-Wettach Hall 160 Ridge Road CB #3380 Chapel Hill NC 27599 United States;X-APPLE-RADIUS=500;X-TITLE=160 Ridge Road\, CB #3380:geo:-79.0420118,35.9089895
END:VEVENT
BEGIN:VEVENT
DTSTART;TZID=America/New_York:20200409T120000
DTEND;TZID=America/New_York:20200409T130000
DTSTAMP:20260424T071240
CREATED:20200124T153532Z
LAST-MODIFIED:20200330T173452Z
UID:4207-1586433600-1586437200@law.unc.edu
SUMMARY:Canceled: Faculty Speaker Series: Victoria Saker Woeste
DESCRIPTION:Victoria Saker Woeste\, American Bar Association \nU.S. legal history\, specifically twentieth century political economy\, civil rights\, and hate speech.
URL:https://law.unc.edu/event/faculty-speaker-series-victoria-saker-woeste-2/
LOCATION:Van Hecke-Wettach Hall\, 160 Ridge Road\, CB #3380\, Chapel Hill\, NC\, 27599\, United States
CATEGORIES:Faculty Speaker Series
GEO:35.9089895;-79.0420118
X-APPLE-STRUCTURED-LOCATION;VALUE=URI;X-ADDRESS=Van Hecke-Wettach Hall 160 Ridge Road CB #3380 Chapel Hill NC 27599 United States;X-APPLE-RADIUS=500;X-TITLE=160 Ridge Road\, CB #3380:geo:-79.0420118,35.9089895
END:VEVENT
BEGIN:VEVENT
DTSTART;TZID=America/New_York:20200416T120000
DTEND;TZID=America/New_York:20200416T130000
DTSTAMP:20260424T071240
CREATED:20190926T182746Z
LAST-MODIFIED:20200330T173529Z
UID:2814-1587038400-1587042000@law.unc.edu
SUMMARY:Canceled: Faculty Speaker Series: Donita Robinson
DESCRIPTION:Donita Robinson\, UNC School of Medicine\n\n\n\n\n\nBehavioral and pharmacological neurodynamic studies on how addictive drugs\, such as alcohol and nicotine\, alter corticostriatal circuit activity both acutely and persistently\, especially when drug exposure occurs during adolescence.
URL:https://law.unc.edu/event/faculty-speaker-series-donita-robinson/
LOCATION:Van Hecke-Wettach Hall\, 160 Ridge Road\, CB #3380\, Chapel Hill\, NC\, 27599\, United States
CATEGORIES:Faculty Speaker Series
GEO:35.9089895;-79.0420118
X-APPLE-STRUCTURED-LOCATION;VALUE=URI;X-ADDRESS=Van Hecke-Wettach Hall 160 Ridge Road CB #3380 Chapel Hill NC 27599 United States;X-APPLE-RADIUS=500;X-TITLE=160 Ridge Road\, CB #3380:geo:-79.0420118,35.9089895
END:VEVENT
BEGIN:VEVENT
DTSTART;TZID=America/New_York:20200820T120000
DTEND;TZID=America/New_York:20200820T130000
DTSTAMP:20260424T071240
CREATED:20200731T193617Z
LAST-MODIFIED:20200810T202427Z
UID:5363-1597924800-1597928400@law.unc.edu
SUMMARY:Faculty Speaker Series: Andrew Hessick
DESCRIPTION:Andrew Hessick\, University of North Carolina School of Law \nAdministrative Law\, Civil Procedure\, Common Law\, Constitutional Law\, Courts\nEvidence\, Federal Courts\, Federalism\, Judges\, Jurisdiction\, and Legal Remedies. \nAndrew Hessick
URL:https://law.unc.edu/event/faculty-speaker-series-andrew-hessick/
LOCATION:Virtual\, NC\, United States
CATEGORIES:Faculty Speaker Series,Home Page Events
GEO:35.905249;-79.0581498
END:VEVENT
BEGIN:VEVENT
DTSTART;TZID=America/New_York:20200827T120000
DTEND;TZID=America/New_York:20200827T130000
DTSTAMP:20260424T071240
CREATED:20200731T194019Z
LAST-MODIFIED:20200731T194138Z
UID:5365-1598529600-1598533200@law.unc.edu
SUMMARY:Faculty Speaker Series: Ganesh Sitaraman
DESCRIPTION:Ganesh Sitaraman\, Vanderbilt University Law School\nConstitutional Law\, Constitutional Theory\, Foreign Relations Law\, Administrative\nLaw\, Regulation\, Political Theory\, Institutional Design\, and International Law. \nhttps://law.vanderbilt.edu/bio/ganesh-sitaraman
URL:https://law.unc.edu/event/faculty-speaker-series-ganesh-sitaraman/
LOCATION:Virtual\, NC\, United States
CATEGORIES:Faculty Speaker Series,Home Page Events
GEO:35.905249;-79.0581498
END:VEVENT
BEGIN:VEVENT
DTSTART;TZID=America/New_York:20200910T120000
DTEND;TZID=America/New_York:20200910T130000
DTSTAMP:20260424T071240
CREATED:20200731T194332Z
LAST-MODIFIED:20200904T190826Z
UID:5368-1599739200-1599742800@law.unc.edu
SUMMARY:Faculty Speaker Series: John Coyle
DESCRIPTION:John Coyle\nUniversity of North Carolina School of Law \nBusiness Organizations Law; Conflict of Laws; Contracts; Corporate Governance; Corporate Law; Entrepreneurship and the Law; International Business Transactions; International Law; International Trade Law; and Organizations Law. \nhttps://law.unc.edu/people/john-f-coyle/ \n 
URL:https://law.unc.edu/event/faculty-speaker-series-anne-fleming/
LOCATION:Virtual\, NC\, United States
CATEGORIES:Faculty Speaker Series,Home Page Events
GEO:35.905249;-79.0581498
END:VEVENT
BEGIN:VEVENT
DTSTART;TZID=America/New_York:20200924T120000
DTEND;TZID=America/New_York:20200924T130000
DTSTAMP:20260424T071240
CREATED:20200731T195432Z
LAST-MODIFIED:20200818T185645Z
UID:5370-1600948800-1600952400@law.unc.edu
SUMMARY:Faculty Speaker Series: Jack Landman Goldsmith
DESCRIPTION:Jack Landman Goldsmith\nHarvard Law School\nFederal Courts; Foreign Relations Law; International Law; Cyber Law and Policy\nand the Internet: Internet Governance; and National Security Law.\nhttps://hls.harvard.edu/faculty/directory/10320/Goldsmith
URL:https://law.unc.edu/event/faculty-speaker-series-jack-landman-goldsmith/
LOCATION:Virtual\, NC\, United States
CATEGORIES:Faculty Speaker Series,Home Page Events
GEO:35.905249;-79.0581498
END:VEVENT
BEGIN:VEVENT
DTSTART;TZID=America/New_York:20201001T120000
DTEND;TZID=America/New_York:20201001T130000
DTSTAMP:20260424T071240
CREATED:20200731T200848Z
LAST-MODIFIED:20200731T200848Z
UID:5372-1601553600-1601557200@law.unc.edu
SUMMARY:Faculty Speaker Series: Leslie Culver
DESCRIPTION:Leslie Culver\nUniversity of California\, Irvine\, School of Law\nComparative Discrimination Law (researched in Europe)\, Critical Race Theory\,\nFeminist Communication and Social Science\, with a central goal to empower\nmarginalized law students and attorneys toward conscious identity performance.\nhttps://www.law.uci.edu/faculty/visiting/culver/
URL:https://law.unc.edu/event/faculty-speaker-series-leslie-culver/
LOCATION:Virtual\, NC\, United States
CATEGORIES:Faculty Speaker Series,Home Page Events
GEO:35.905249;-79.0581498
END:VEVENT
BEGIN:VEVENT
DTSTART;TZID=America/New_York:20201022T120000
DTEND;TZID=America/New_York:20201022T130000
DTSTAMP:20260424T071240
CREATED:20200731T200939Z
LAST-MODIFIED:20200803T130350Z
UID:5374-1603368000-1603371600@law.unc.edu
SUMMARY:Faculty Speaker Series: Amy Adler
DESCRIPTION:Amy Adler\nNew York University School of Law\nArt Law; Feminist Theory; Free Speech; Gender and Sexuality; Law\, Culture and\nHumanities; First Amendment treatment of visual images; Copyright Law and the art\nmarket; legal regulation of pornography; and the moral rights of artists.\nhttps://its.law.nyu.edu/facultyprofiles/index.cfm?fuseaction=profile.overview&personid=19731
URL:https://law.unc.edu/event/faculty-speaker-series-amy-adler/
LOCATION:Virtual\, NC\, United States
CATEGORIES:Faculty Speaker Series,Home Page Events
GEO:35.905249;-79.0581498
END:VEVENT
BEGIN:VEVENT
DTSTART;TZID=America/New_York:20201105T120000
DTEND;TZID=America/New_York:20201105T130000
DTSTAMP:20260424T071240
CREATED:20200731T201225Z
LAST-MODIFIED:20200814T184500Z
UID:5378-1604577600-1604581200@law.unc.edu
SUMMARY:Faculty Speaker Series: Chaz Arnett
DESCRIPTION:Chaz Arnett\nUniversity of Maryland Francis King Carey School of Law\nCriminal Procedure\, Legal Ethics\, Juvenile Justice\, Education Law\, Criminal law\,\nTechnology\, and Surveillance Studies. \nhttps://www.law.umaryland.edu/directory/profile.asp?id=1218
URL:https://law.unc.edu/event/faculty-speaker-series-chaz-arnett/
LOCATION:Virtual\, NC\, United States
CATEGORIES:Faculty Speaker Series,Home Page Events
GEO:35.905249;-79.0581498
END:VEVENT
BEGIN:VEVENT
DTSTART;TZID=America/New_York:20201119T120000
DTEND;TZID=America/New_York:20201119T130000
DTSTAMP:20260424T071240
CREATED:20200731T201439Z
LAST-MODIFIED:20201118T200826Z
UID:5380-1605787200-1605790800@law.unc.edu
SUMMARY:Canceled - Faculty Speaker Series: Catherine Albiston
DESCRIPTION:This event has been canceled. \nCatherine Albiston\nUniversity of California\, Berkeley\, School of Law\nEmployment Discrimination\, Sociology of Law\, Social Movements and Law\,\nResearch Design\, and the Advanced Interdisciplinary Writing Workshop on Law.\nhttps://www.law.berkeley.edu/our-faculty/faculty-profiles/catherine-albiston/
URL:https://law.unc.edu/event/faculty-speaker-series-catherine-albiston/
LOCATION:Virtual\, NC\, United States
CATEGORIES:Faculty Speaker Series
GEO:35.905249;-79.0581498
END:VEVENT
BEGIN:VEVENT
DTSTART;TZID=America/New_York:20201203T120000
DTEND;TZID=America/New_York:20201203T130000
DTSTAMP:20260424T071240
CREATED:20200731T221250Z
LAST-MODIFIED:20200814T185106Z
UID:5382-1606996800-1607000400@law.unc.edu
SUMMARY:Faculty Speaker Series: Kate Elengold & Jonathan Glater
DESCRIPTION:Kate Elengold\, UNC School of Law\, with her Co-Author Jonathan Glater\, UCLA \nElengold specializes in Banking & Law Finance\, Consumer Protection Law\, Civil Rights & Discrimination\, and Legal Ethics & Professional Responsibility. https://law.unc.edu/people/kate-sablosky-elengold/ \nGlater specializes in Higher Education Law\, Criminal Law\, Corporate Law\, White Collar Crime\, and Securities Fraud. https://law.ucla.edu/faculty/faculty-profiles/jonathan-glater
URL:https://law.unc.edu/event/faculty-speaker-series-kate-elengold-jonathan-glater/
LOCATION:Virtual\, NC\, United States
CATEGORIES:Faculty Speaker Series,Home Page Events
GEO:35.905249;-79.0581498
END:VEVENT
BEGIN:VEVENT
DTSTART;TZID=America/New_York:20210114T120000
DTEND;TZID=America/New_York:20210114T130000
DTSTAMP:20260424T071240
CREATED:20200731T221446Z
LAST-MODIFIED:20200814T185137Z
UID:5386-1610625600-1610629200@law.unc.edu
SUMMARY:Faculty Speaker Series: Deborah Gerhardt
DESCRIPTION:Deborah Gerhardt\nUniversity of North Carolina\, School of Law\nAdvertising and Marketing Law; Art Law; Copyright Law; Entertainment\, Arts\,\nand Sports Law; Entrepreneurship And The Law; Intellectual Property Law; and\nTrademark Law.\nhttps://law.unc.edu/people/deborah-r-gerhardt/
URL:https://law.unc.edu/event/faculty-speaker-series-deborah-gerhardt/
CATEGORIES:Faculty Speaker Series,Home Page Events
END:VEVENT
BEGIN:VEVENT
DTSTART;TZID=America/New_York:20210121T120000
DTEND;TZID=America/New_York:20210121T130000
DTSTAMP:20260424T071240
CREATED:20201008T140104Z
LAST-MODIFIED:20201008T140104Z
UID:5845-1611230400-1611234000@law.unc.edu
SUMMARY:Faculty Speaker Series: Rich Saver
DESCRIPTION:Biotechnology and the Law\, Business Organizations Law\, Corporate Law\, Food and\nDrug Law\, Health Law and Policy\, Life Sciences Law\, Medical Jurisprudence\, Nonprofit Organizations Law\, Products Liability\, Regulatory Compliance\, Torts. \nRichard S. Saver
URL:https://law.unc.edu/event/faculty-speaker-series-rich-saver/
LOCATION:Virtual\, NC\, United States
CATEGORIES:Faculty Speaker Series
GEO:35.905249;-79.0581498
END:VEVENT
BEGIN:VEVENT
DTSTART;TZID=America/New_York:20210128T120000
DTEND;TZID=America/New_York:20210128T130000
DTSTAMP:20260424T071240
CREATED:20200731T221557Z
LAST-MODIFIED:20200731T221557Z
UID:5388-1611835200-1611838800@law.unc.edu
SUMMARY:Faculty Speaker Series: Meghan Boone
DESCRIPTION:Meghan Boone\nWake Forest University Law School\nCivil Rights/Anti-Discrimination Laws\, Constitutional Law\, Employment Discrimination\,\nFamily Law\, and Sex Discrimination. Her recent scholarship has focused\non Lactation Law\, Reproductive Law\, and Gender Equality in the Workplace.\nhttps://law.wfu.edu/faculty/profile/boonem/
URL:https://law.unc.edu/event/faculty-speaker-series-meghan-boone/
CATEGORIES:Faculty Speaker Series,Home Page Events
END:VEVENT
BEGIN:VEVENT
DTSTART;TZID=America/New_York:20210211T120000
DTEND;TZID=America/New_York:20210211T130000
DTSTAMP:20260424T071240
CREATED:20201008T140746Z
LAST-MODIFIED:20201008T140746Z
UID:5847-1613044800-1613048400@law.unc.edu
SUMMARY:Faculty Speaker Series: Rick Su
DESCRIPTION:Asylum and Refugee Law\, Federalism\, Immigration Law\, Land Use Law\, Property\nLaw and Real Estate\, State and Local Government Law. His research focuses on the\nintersection between cities and immigration. \nRick Su
URL:https://law.unc.edu/event/faculty-speaker-series-rick-su/
CATEGORIES:Faculty Speaker Series
END:VEVENT
BEGIN:VEVENT
DTSTART;TZID=America/New_York:20210225T120000
DTEND;TZID=America/New_York:20210225T130000
DTSTAMP:20260424T071240
CREATED:20200731T221823Z
LAST-MODIFIED:20200731T221823Z
UID:5390-1614254400-1614258000@law.unc.edu
SUMMARY:Faculty Speaker Series: Jay Butler
DESCRIPTION:Jay Butler\nWilliam & Mary Law School\nHis scholarship and teaching focuses on International Law\, and Corporations And\nContracts. He served as a law clerk to Judges of the International Court of Justice\nand worked as a legal adviser to the Government of Japan.\nhttps://law2.wm.edu/faculty/bios/fulltime/jbutler.php
URL:https://law.unc.edu/event/faculty-speaker-series-jay-butler/
CATEGORIES:Faculty Speaker Series,Home Page Events
END:VEVENT
BEGIN:VEVENT
DTSTART;TZID=America/New_York:20210304T120000
DTEND;TZID=America/New_York:20210304T130000
DTSTAMP:20260424T071240
CREATED:20200731T224928Z
LAST-MODIFIED:20200731T224928Z
UID:5392-1614859200-1614862800@law.unc.edu
SUMMARY:Faculty Speaker Series: Issa Kohler-Hausmann
DESCRIPTION:Issa Kohler-Hausmann\nA Professor of Law at Yale Law School and Associate Professor of Sociology at Yale. Her primary research interests are in Criminal Law\, Sociology of Law\, Empirical Legal Studies\, and Social And Legal Theory.\nhttps://law.yale.edu/issa-kohler-hausmann
URL:https://law.unc.edu/event/faculty-speaker-series-issa-kohler-hausmann/
CATEGORIES:Faculty Speaker Series,Home Page Events
END:VEVENT
BEGIN:VEVENT
DTSTART;TZID=America/New_York:20210318T120000
DTEND;TZID=America/New_York:20210318T130000
DTSTAMP:20260424T071240
CREATED:20200731T225304Z
LAST-MODIFIED:20200731T225304Z
UID:5394-1616068800-1616072400@law.unc.edu
SUMMARY:Faculty Speaker Series: Abbye Atkinson
DESCRIPTION:Abbye Atkinson\nUniversity of California\, Berkeley\, School of Law\nCredit and Debt; Consumer Bankruptcy; Debt\, Discrimination\, and Inequality. Atkinson’s research focuses on the law of debtors and creditors as it affects economically disenfranchised communities.\nhttps://www.law.berkeley.edu/our-faculty/faculty-profiles/abbye-atkinson/
URL:https://law.unc.edu/event/faculty-speaker-series-abbye-atkinson/
CATEGORIES:Faculty Speaker Series,Home Page Events
END:VEVENT
BEGIN:VEVENT
DTSTART;TZID=America/New_York:20210408T120000
DTEND;TZID=America/New_York:20210408T130000
DTSTAMP:20260424T071240
CREATED:20201008T142707Z
LAST-MODIFIED:20201012T172130Z
UID:5849-1617883200-1617886800@law.unc.edu
SUMMARY:Faculty Speaker Series: Victoria Saker Woeste
DESCRIPTION:Victoria Saker Woeste\nAmerican Bar Association \nCurrent projects include a study of the civil rights law practice of the founder of the Westboro Baptist Church (classified as hate speaker by the Southern Poverty Law Center) and an inquiry into the roots of the “fake news” trope in the history of antisemitic propaganda.  http://www.americanbarfoundation.org/faculty/profile/60/bio.html
URL:https://law.unc.edu/event/victoria-saker-woeste/
CATEGORIES:Faculty Speaker Series
END:VEVENT
BEGIN:VEVENT
DTSTART;TZID=America/New_York:20210916T120000
DTEND;TZID=America/New_York:20210916T130000
DTSTAMP:20260424T071240
CREATED:20210910T183840Z
LAST-MODIFIED:20210910T184127Z
UID:7540-1631793600-1631797200@law.unc.edu
SUMMARY:Faculty Speaker Series - Rick Su
DESCRIPTION:Faculty Speaker Series: \nRick Su
URL:https://law.unc.edu/event/faculty-speaker-series-rick-su-2/
LOCATION:Van Hecke-Wettach Hall\, 160 Ridge Road\, CB #3380\, Chapel Hill\, NC\, 27599\, United States
CATEGORIES:Faculty Speaker Series,Home Page Events
GEO:35.9089895;-79.0420118
X-APPLE-STRUCTURED-LOCATION;VALUE=URI;X-ADDRESS=Van Hecke-Wettach Hall 160 Ridge Road CB #3380 Chapel Hill NC 27599 United States;X-APPLE-RADIUS=500;X-TITLE=160 Ridge Road\, CB #3380:geo:-79.0420118,35.9089895
END:VEVENT
BEGIN:VEVENT
DTSTART;TZID=America/New_York:20210930T120000
DTEND;TZID=America/New_York:20210930T130000
DTSTAMP:20260424T071240
CREATED:20210910T184054Z
LAST-MODIFIED:20210921T185134Z
UID:7542-1633003200-1633006800@law.unc.edu
SUMMARY:Faculty Speaker Series - Sean Williams
DESCRIPTION:Sean Williams\, The University of Texas at Austin School of Law/visiting Duke Law this fall \nBehavioral Law and Economics; Contracts; Torts; Family Law. \nhttps://law.utexas.edu/faculty/sean-h-williams/
URL:https://law.unc.edu/event/faculty-speaker-series-swilliams/
LOCATION:Van Hecke-Wettach Hall\, 160 Ridge Road\, CB #3380\, Chapel Hill\, NC\, 27599\, United States
CATEGORIES:Faculty Speaker Series,Home Page Events
GEO:35.9089895;-79.0420118
X-APPLE-STRUCTURED-LOCATION;VALUE=URI;X-ADDRESS=Van Hecke-Wettach Hall 160 Ridge Road CB #3380 Chapel Hill NC 27599 United States;X-APPLE-RADIUS=500;X-TITLE=160 Ridge Road\, CB #3380:geo:-79.0420118,35.9089895
END:VEVENT
END:VCALENDAR